Package: CFAssay Version: 1.41.0 Command: E:\biocbuild\bbs-3.21-bioc\R\bin\R.exe CMD INSTALL CFAssay StartedAt: 2025-02-19 15:30:39 -0500 (Wed, 19 Feb 2025) EndedAt: 2025-02-19 15:30:48 -0500 (Wed, 19 Feb 2025) EllapsedTime: 9.4 seconds RetCode: 0 Status: OK