Package: CFAssay Version: 1.41.0 Command: E:\biocbuild\bbs-3.21-bioc\R\bin\R.exe CMD check --no-multiarch --install=check:CFAssay.install-out.txt --library=E:\biocbuild\bbs-3.21-bioc\R\library --no-vignettes --timings CFAssay_1.41.0.tar.gz StartedAt: 2025-02-18 23:28:55 -0500 (Tue, 18 Feb 2025) EndedAt: 2025-02-18 23:29:24 -0500 (Tue, 18 Feb 2025) EllapsedTime: 29.4 seconds RetCode: 0 Status: OK CheckDir: CFAssay.Rcheck Warnings: 0