Package: CFAssay Version: 1.41.0 Command: chmod a+r CFAssay -R && E:\biocbuild\bbs-3.21-bioc\R\bin\R.exe CMD build --keep-empty-dirs --no-resave-data CFAssay StartedAt: 2025-02-19 17:47:44 -0500 (Wed, 19 Feb 2025) EndedAt: 2025-02-19 17:48:01 -0500 (Wed, 19 Feb 2025) EllapsedTime: 17.7 seconds RetCode: 0 Status: OK PackageFile: CFAssay_1.41.0.tar.gz PackageFileSize: 194.1 KiB