Package: CEMiTool Version: 1.31.0 Command: E:\biocbuild\bbs-3.21-bioc\R\bin\R.exe CMD INSTALL CEMiTool StartedAt: 2025-02-19 16:35:12 -0500 (Wed, 19 Feb 2025) EndedAt: 2025-02-19 16:36:13 -0500 (Wed, 19 Feb 2025) EllapsedTime: 61.5 seconds RetCode: 0 Status: OK