Package: CEMiTool Version: 1.31.0 Command: /Library/Frameworks/R.framework/Resources/bin/R CMD INSTALL CEMiTool StartedAt: 2025-02-19 15:33:10 -0500 (Wed, 19 Feb 2025) EndedAt: 2025-02-19 15:33:47 -0500 (Wed, 19 Feb 2025) EllapsedTime: 36.5 seconds RetCode: 0 Status: OK