Package: CEMiTool Version: 1.31.0 Command: /Library/Frameworks/R.framework/Resources/bin/R CMD build --keep-empty-dirs --no-resave-data CEMiTool StartedAt: 2025-02-19 15:51:03 -0500 (Wed, 19 Feb 2025) EndedAt: 2025-02-19 15:51:37 -0500 (Wed, 19 Feb 2025) EllapsedTime: 33.3 seconds RetCode: 0 Status: OK PackageFile: CEMiTool_1.31.0.tar.gz PackageFileSize: 5.661 MiB