Package: CDI Version: 1.5.0 Command: /home/biocbuild/bbs-3.21-bioc/R/bin/R CMD build --keep-empty-dirs --no-resave-data CDI StartedAt: 2025-02-20 16:49:01 -0500 (Thu, 20 Feb 2025) EndedAt: 2025-02-20 16:56:46 -0500 (Thu, 20 Feb 2025) EllapsedTime: 465.5 seconds RetCode: 0 Status: OK PackageFile: CDI_1.5.0.tar.gz PackageFileSize: 2.05 MiB