Package: CDI Version: 1.5.0 Command: rm -rf CDI.buildbin-libdir && mkdir CDI.buildbin-libdir && /Users/biocbuild/BBS/utils/build-universal.sh CDI_1.5.0.tar.gz /Library/Frameworks/R.framework/Resources/bin/R CDI.buildbin-libdir StartedAt: 2025-02-21 00:22:46 -0500 (Fri, 21 Feb 2025) EndedAt: 2025-02-21 00:23:36 -0500 (Fri, 21 Feb 2025) EllapsedTime: 50.8 seconds RetCode: 0 Status: OK PackageFile: CDI_1.5.0.tgz PackageFileSize: 2.116 MiB