Package: CDI Version: 1.5.0 Command: /Library/Frameworks/R.framework/Resources/bin/R CMD check --install=check:CDI.install-out.txt --library=/Library/Frameworks/R.framework/Resources/library --no-vignettes --timings CDI_1.5.0.tar.gz StartedAt: 2025-02-20 18:25:59 -0500 (Thu, 20 Feb 2025) EndedAt: 2025-02-20 18:27:39 -0500 (Thu, 20 Feb 2025) EllapsedTime: 100.3 seconds RetCode: 0 Status: OK CheckDir: CDI.Rcheck Warnings: 0