Package: CDI Version: 1.5.0 Command: /Library/Frameworks/R.framework/Resources/bin/R CMD build --keep-empty-dirs --no-resave-data CDI StartedAt: 2025-02-20 15:49:08 -0500 (Thu, 20 Feb 2025) EndedAt: 2025-02-20 15:52:01 -0500 (Thu, 20 Feb 2025) EllapsedTime: 172.8 seconds RetCode: 0 Status: OK PackageFile: CDI_1.5.0.tar.gz PackageFileSize: 2.08 MiB