Package: CDI Version: 1.5.0 Command: rm -rf CDI.buildbin-libdir && mkdir CDI.buildbin-libdir && /Users/biocbuild/BBS/utils/build-universal.sh CDI_1.5.0.tar.gz /Library/Frameworks/R.framework/Resources/bin/R CDI.buildbin-libdir StartedAt: 2025-02-20 22:12:56 -0500 (Thu, 20 Feb 2025) EndedAt: 2025-02-20 22:13:12 -0500 (Thu, 20 Feb 2025) EllapsedTime: 15.3 seconds RetCode: 0 Status: OK PackageFile: CDI_1.5.0.tgz PackageFileSize: 2.117 MiB