Package: CCPlotR Version: 1.5.0 Command: /Library/Frameworks/R.framework/Resources/bin/R CMD INSTALL CCPlotR StartedAt: 2025-02-19 15:18:28 -0500 (Wed, 19 Feb 2025) EndedAt: 2025-02-19 15:18:46 -0500 (Wed, 19 Feb 2025) EllapsedTime: 17.7 seconds RetCode: 0 Status: OK