Package: CCPlotR Version: 1.5.0 Command: /Library/Frameworks/R.framework/Resources/bin/R CMD build --keep-empty-dirs --no-resave-data CCPlotR StartedAt: 2025-02-19 16:08:42 -0500 (Wed, 19 Feb 2025) EndedAt: 2025-02-19 16:09:15 -0500 (Wed, 19 Feb 2025) EllapsedTime: 33.2 seconds RetCode: 0 Status: OK PackageFile: CCPlotR_1.5.0.tar.gz PackageFileSize: 4.889 MiB