Package: CCPlotR Version: 1.6.0 Command: /home/biocbuild/R/R/bin/R CMD build --keep-empty-dirs --no-resave-data CCPlotR StartedAt: 2025-10-13 23:24:52 -0000 (Mon, 13 Oct 2025) EndedAt: 2025-10-13 23:25:46 -0000 (Mon, 13 Oct 2025) EllapsedTime: 54.0 seconds RetCode: 0 Status: OK PackageFile: CCPlotR_1.6.0.tar.gz PackageFileSize: 4.53 MiB