Package: CCPROMISE Version: 1.33.0 Command: /home/biocbuild/R/R/bin/R CMD INSTALL CCPROMISE StartedAt: 2025-01-29 19:52:16 -0000 (Wed, 29 Jan 2025) EndedAt: 2025-01-29 19:52:36 -0000 (Wed, 29 Jan 2025) EllapsedTime: 19.7 seconds RetCode: 0 Status: OK