Package: CCPROMISE Version: 1.33.0 Command: /Library/Frameworks/R.framework/Resources/bin/R CMD build --keep-empty-dirs --no-resave-data CCPROMISE StartedAt: 2025-02-18 15:49:57 -0500 (Tue, 18 Feb 2025) EndedAt: 2025-02-18 15:50:14 -0500 (Tue, 18 Feb 2025) EllapsedTime: 17.2 seconds RetCode: 0 Status: OK PackageFile: CCPROMISE_1.33.0.tar.gz PackageFileSize: 1.03 MiB