Package: CBNplot Version: 1.7.0 Command: /home/biocbuild/bbs-3.21-bioc/R/bin/R CMD build --keep-empty-dirs --no-resave-data CBNplot StartedAt: 2025-02-19 16:31:49 -0500 (Wed, 19 Feb 2025) EndedAt: 2025-02-19 16:32:50 -0500 (Wed, 19 Feb 2025) EllapsedTime: 61.1 seconds RetCode: 0 Status: OK PackageFile: CBNplot_1.7.0.tar.gz PackageFileSize: 990.5 KiB