Package: CBNplot Version: 1.7.0 Command: /Library/Frameworks/R.framework/Resources/bin/R CMD INSTALL CBNplot StartedAt: 2025-02-19 15:32:54 -0500 (Wed, 19 Feb 2025) EndedAt: 2025-02-19 15:33:34 -0500 (Wed, 19 Feb 2025) EllapsedTime: 40.3 seconds RetCode: 0 Status: OK