Package: CBEA Version: 1.7.1 Command: /home/biocbuild/bbs-3.21-bioc/R/bin/R CMD INSTALL CBEA StartedAt: 2025-02-20 16:12:16 -0500 (Thu, 20 Feb 2025) EndedAt: 2025-02-20 16:12:55 -0500 (Thu, 20 Feb 2025) EllapsedTime: 39.8 seconds RetCode: 0 Status: OK