Package: CBEA Version: 1.7.1 Command: /Library/Frameworks/R.framework/Resources/bin/R CMD INSTALL CBEA StartedAt: 2025-02-20 15:31:47 -0500 (Thu, 20 Feb 2025) EndedAt: 2025-02-20 15:32:39 -0500 (Thu, 20 Feb 2025) EllapsedTime: 51.5 seconds RetCode: 0 Status: OK