Package: CBEA Version: 1.7.1 Command: /home/biocbuild/R/R/bin/R CMD build --keep-empty-dirs --no-resave-data CBEA StartedAt: 2025-01-28 21:35:55 -0000 (Tue, 28 Jan 2025) EndedAt: 2025-01-28 21:37:25 -0000 (Tue, 28 Jan 2025) EllapsedTime: 90.0 seconds RetCode: 1 Status: ERROR PackageFile: None PackageFileSize: NA