Package: CATALYST Version: 1.31.2 Command: chmod a+r CATALYST -R && E:\biocbuild\bbs-3.21-bioc\R\bin\R.exe CMD build --keep-empty-dirs --no-resave-data CATALYST StartedAt: 2025-02-20 17:42:38 -0500 (Thu, 20 Feb 2025) EndedAt: 2025-02-20 17:50:52 -0500 (Thu, 20 Feb 2025) EllapsedTime: 493.7 seconds RetCode: 0 Status: OK PackageFile: CATALYST_1.31.2.tar.gz PackageFileSize: 6.757 MiB