Package: CARNIVAL Version: 2.17.0 Command: E:\biocbuild\bbs-3.21-bioc\R\bin\R.exe CMD INSTALL CARNIVAL StartedAt: 2025-02-19 16:11:16 -0500 (Wed, 19 Feb 2025) EndedAt: 2025-02-19 16:11:58 -0500 (Wed, 19 Feb 2025) EllapsedTime: 41.2 seconds RetCode: 0 Status: OK