Package: CARNIVAL Version: 2.17.0 Command: /home/biocbuild/bbs-3.21-bioc/R/bin/R CMD INSTALL CARNIVAL StartedAt: 2025-02-19 15:09:09 -0500 (Wed, 19 Feb 2025) EndedAt: 2025-02-19 15:09:16 -0500 (Wed, 19 Feb 2025) EllapsedTime: 7.3 seconds RetCode: 0 Status: OK