Package: CARDspa Version: 0.99.5 Command: E:\biocbuild\bbs-3.21-bioc\R\bin\R.exe CMD INSTALL CARDspa StartedAt: 2025-02-21 16:58:21 -0500 (Fri, 21 Feb 2025) EndedAt: 2025-02-21 16:59:45 -0500 (Fri, 21 Feb 2025) EllapsedTime: 83.2 seconds RetCode: 0 Status: OK