Package: CARDspa Version: 0.99.5 Command: E:\biocbuild\bbs-3.21-bioc\R\bin\R.exe CMD check --no-multiarch --install=check:CARDspa.install-out.txt --library=E:\biocbuild\bbs-3.21-bioc\R\library --no-vignettes --timings CARDspa_0.99.5.tar.gz StartedAt: 2025-02-22 00:04:43 -0500 (Sat, 22 Feb 2025) EndedAt: 2025-02-22 00:13:05 -0500 (Sat, 22 Feb 2025) EllapsedTime: 502.4 seconds RetCode: 0 Status: OK CheckDir: CARDspa.Rcheck Warnings: 0