Package: CARDspa Version: 0.99.5 Command: chmod a+r CARDspa -R && E:\biocbuild\bbs-3.21-bioc\R\bin\R.exe CMD build --keep-empty-dirs --no-resave-data CARDspa StartedAt: 2025-02-21 18:20:43 -0500 (Fri, 21 Feb 2025) EndedAt: 2025-02-21 18:29:27 -0500 (Fri, 21 Feb 2025) EllapsedTime: 524.1 seconds RetCode: 0 Status: OK PackageFile: CARDspa_0.99.5.tar.gz PackageFileSize: 2.376 MiB