Package: CARDspa Version: 0.99.5 Command: rm -rf CARDspa.buildbin-libdir && mkdir CARDspa.buildbin-libdir && E:\biocbuild\bbs-3.21-bioc\R\bin\R.exe CMD INSTALL --build --library=CARDspa.buildbin-libdir CARDspa_0.99.5.tar.gz StartedAt: 2025-02-22 08:00:11 -0500 (Sat, 22 Feb 2025) EndedAt: 2025-02-22 08:01:29 -0500 (Sat, 22 Feb 2025) EllapsedTime: 78.3 seconds RetCode: 0 Status: OK PackageFile: CARDspa_0.99.5.zip PackageFileSize: 3.141 MiB