############################################################################## ############################################################################## ### ### Running command: ### ### rm -rf CARDspa.buildbin-libdir && mkdir CARDspa.buildbin-libdir && E:\biocbuild\bbs-3.21-bioc\R\bin\R.exe CMD INSTALL --build --library=CARDspa.buildbin-libdir CARDspa_0.99.5.tar.gz ### ############################################################################## ############################################################################## * installing *source* package 'CARDspa' ... ** this is package 'CARDspa' version '0.99.5' ** using staged installation ** libs using C++ compiler: 'G__~1.EXE (GCC) 13.3.0' g++ -std=gnu++17 -I"E:/biocbuild/bbs-3.21-bioc/R/include" -DNDEBUG -I'E:/biocbuild/bbs-3.21-bioc/R/library/Rcpp/include' -I'E:/biocbuild/bbs-3.21-bioc/R/library/RcppArmadillo/include' -I"C:/rtools44/x86_64-w64-mingw32.static.posix/include" -fopenmp -O2 -Wall -mfpmath=sse -msse2 -mstackrealign -DR_NO_REMAP -c CARDfree.cpp -o CARDfree.o g++ -std=gnu++17 -I"E:/biocbuild/bbs-3.21-bioc/R/include" -DNDEBUG -I'E:/biocbuild/bbs-3.21-bioc/R/library/Rcpp/include' -I'E:/biocbuild/bbs-3.21-bioc/R/library/RcppArmadillo/include' -I"C:/rtools44/x86_64-w64-mingw32.static.posix/include" -fopenmp -O2 -Wall -mfpmath=sse -msse2 -mstackrealign -DR_NO_REMAP -c CARDref.cpp -o CARDref.o g++ -std=gnu++17 -I"E:/biocbuild/bbs-3.21-bioc/R/include" -DNDEBUG -I'E:/biocbuild/bbs-3.21-bioc/R/library/Rcpp/include' -I'E:/biocbuild/bbs-3.21-bioc/R/library/RcppArmadillo/include' -I"C:/rtools44/x86_64-w64-mingw32.static.posix/include" -fopenmp -O2 -Wall -mfpmath=sse -msse2 -mstackrealign -DR_NO_REMAP -c RcppExports.cpp -o RcppExports.o g++ -std=gnu++17 -shared -s -static-libgcc -o CARDspa.dll tmp.def CARDfree.o CARDref.o RcppExports.o -fopenmp -LE:/biocbuild/bbs-3.21-bioc/R/bin/x64 -lRlapack -LE:/biocbuild/bbs-3.21-bioc/R/bin/x64 -lRblas -lgfortran -lquadmath -LC:/rtools44/x86_64-w64-mingw32.static.posix/lib/x64 -LC:/rtools44/x86_64-w64-mingw32.static.posix/lib -LE:/biocbuild/bbs-3.21-bioc/R/bin/x64 -lR installing to E:/biocbuild/bbs-3.21-bioc/meat/CARDspa.buildbin-libdir/00LOCK-CARDspa/00new/CARDspa/libs/x64 ** R ** data ** inst ** byte-compile and prepare package for lazy loading ** help *** installing help indices ** building package indices ** installing vignettes ** testing if installed package can be loaded from temporary location ** testing if installed package can be loaded from final location ** testing if installed package keeps a record of temporary installation path * MD5 sums packaged installation of 'CARDspa' as CARDspa_0.99.5.zip * DONE (CARDspa)