Package: CARDspa Version: 0.99.5 Command: /home/biocbuild/bbs-3.21-bioc/R/bin/R CMD INSTALL CARDspa StartedAt: 2025-02-21 16:13:52 -0500 (Fri, 21 Feb 2025) EndedAt: 2025-02-21 16:14:51 -0500 (Fri, 21 Feb 2025) EllapsedTime: 58.6 seconds RetCode: 0 Status: OK