Package: CARDspa Version: 0.99.5 Command: /home/biocbuild/bbs-3.21-bioc/R/bin/R CMD check --install=check:CARDspa.install-out.txt --library=/home/biocbuild/bbs-3.21-bioc/R/site-library --timings CARDspa_0.99.5.tar.gz StartedAt: 2025-02-21 20:55:05 -0500 (Fri, 21 Feb 2025) EndedAt: 2025-02-21 21:01:33 -0500 (Fri, 21 Feb 2025) EllapsedTime: 388.5 seconds RetCode: 1 Status: ERROR CheckDir: CARDspa.Rcheck Warnings: NA