Package: CARDspa Version: 0.99.5 Command: /home/biocbuild/bbs-3.21-bioc/R/bin/R CMD build --keep-empty-dirs --no-resave-data CARDspa StartedAt: 2025-02-21 17:08:42 -0500 (Fri, 21 Feb 2025) EndedAt: 2025-02-21 17:15:01 -0500 (Fri, 21 Feb 2025) EllapsedTime: 378.4 seconds RetCode: 0 Status: OK PackageFile: CARDspa_0.99.5.tar.gz PackageFileSize: 3.837 MiB