Package: CARDspa Version: 0.99.5 Command: /Library/Frameworks/R.framework/Resources/bin/R CMD INSTALL CARDspa StartedAt: 2025-02-21 15:31:49 -0500 (Fri, 21 Feb 2025) EndedAt: 2025-02-21 15:33:01 -0500 (Fri, 21 Feb 2025) EllapsedTime: 71.9 seconds RetCode: 0 Status: OK