Package: CARDspa Version: 0.99.5 Command: /Library/Frameworks/R.framework/Resources/bin/R CMD build --keep-empty-dirs --no-resave-data CARDspa StartedAt: 2025-02-21 16:07:57 -0500 (Fri, 21 Feb 2025) EndedAt: 2025-02-21 16:14:13 -0500 (Fri, 21 Feb 2025) EllapsedTime: 376.3 seconds RetCode: 0 Status: OK PackageFile: CARDspa_0.99.5.tar.gz PackageFileSize: 4.515 MiB