Package: CARDspa Version: 0.99.5 Command: rm -rf CARDspa.buildbin-libdir && mkdir CARDspa.buildbin-libdir && /Users/biocbuild/BBS/utils/build-universal.sh CARDspa_0.99.5.tar.gz /Library/Frameworks/R.framework/Resources/bin/R CARDspa.buildbin-libdir StartedAt: 2025-02-22 00:23:32 -0500 (Sat, 22 Feb 2025) EndedAt: 2025-02-22 00:24:49 -0500 (Sat, 22 Feb 2025) EllapsedTime: 77.2 seconds RetCode: 0 Status: OK PackageFile: CARDspa_0.99.5.tgz PackageFileSize: 4.912 MiB