Package: CARDspa Version: 0.99.5 Command: /Library/Frameworks/R.framework/Resources/bin/R CMD INSTALL CARDspa StartedAt: 2025-02-21 15:20:24 -0500 (Fri, 21 Feb 2025) EndedAt: 2025-02-21 15:20:44 -0500 (Fri, 21 Feb 2025) EllapsedTime: 20.0 seconds RetCode: 0 Status: OK