Package: CARDspa Version: 0.99.5 Command: /Library/Frameworks/R.framework/Resources/bin/R CMD check --install=check:CARDspa.install-out.txt --library=/Library/Frameworks/R.framework/Resources/library --no-vignettes --timings CARDspa_0.99.5.tar.gz StartedAt: 2025-02-21 19:00:09 -0500 (Fri, 21 Feb 2025) EndedAt: 2025-02-21 19:02:55 -0500 (Fri, 21 Feb 2025) EllapsedTime: 166.0 seconds RetCode: 0 Status: OK CheckDir: CARDspa.Rcheck Warnings: 0