Package: CARDspa Version: 0.99.5 Command: rm -rf CARDspa.buildbin-libdir && mkdir CARDspa.buildbin-libdir && /Users/biocbuild/BBS/utils/build-universal.sh CARDspa_0.99.5.tar.gz /Library/Frameworks/R.framework/Resources/bin/R CARDspa.buildbin-libdir StartedAt: 2025-02-21 22:50:04 -0500 (Fri, 21 Feb 2025) EndedAt: 2025-02-21 22:50:26 -0500 (Fri, 21 Feb 2025) EllapsedTime: 22.4 seconds RetCode: 0 Status: OK PackageFile: CARDspa_0.99.5.tgz PackageFileSize: 4.903 MiB