Package: CARDspa Version: 0.99.5 Maintainer: Jing Fu MaintainerEmail: jing_fu at brown.edu git_url: https://git.bioconductor.org/packages/CARDspa git_branch: devel git_last_commit: 31984e0 git_last_commit_date: 2025-02-06 12:40:28 -0500 (Thu, 06 Feb 2025)