Package: CAMERA Version: 1.63.0 Command: E:\biocbuild\bbs-3.21-bioc\R\bin\R.exe CMD INSTALL CAMERA StartedAt: 2025-02-20 16:42:22 -0500 (Thu, 20 Feb 2025) EndedAt: 2025-02-20 16:45:16 -0500 (Thu, 20 Feb 2025) EllapsedTime: 174.4 seconds RetCode: 0 Status: OK