Package: CAMERA Version: 1.63.0 Command: chmod a+r CAMERA -R && E:\biocbuild\bbs-3.21-bioc\R\bin\R.exe CMD build --keep-empty-dirs --no-resave-data CAMERA StartedAt: 2025-02-20 17:40:34 -0500 (Thu, 20 Feb 2025) EndedAt: 2025-02-20 17:45:06 -0500 (Thu, 20 Feb 2025) EllapsedTime: 271.6 seconds RetCode: 0 Status: OK PackageFile: CAMERA_1.63.0.tar.gz PackageFileSize: 2.097 MiB