Package: CAMERA Version: 1.63.0 Command: rm -rf CAMERA.buildbin-libdir && mkdir CAMERA.buildbin-libdir && E:\biocbuild\bbs-3.21-bioc\R\bin\R.exe CMD INSTALL --build --library=CAMERA.buildbin-libdir CAMERA_1.63.0.tar.gz StartedAt: 2025-02-21 07:42:46 -0500 (Fri, 21 Feb 2025) EndedAt: 2025-02-21 07:44:46 -0500 (Fri, 21 Feb 2025) EllapsedTime: 120.7 seconds RetCode: 0 Status: OK PackageFile: CAMERA_1.63.0.zip PackageFileSize: 2.886 MiB