Package: CAMERA Version: 1.63.0 Command: /home/biocbuild/bbs-3.21-bioc/R/bin/R CMD INSTALL CAMERA StartedAt: 2025-02-20 15:51:20 -0500 (Thu, 20 Feb 2025) EndedAt: 2025-02-20 15:52:09 -0500 (Thu, 20 Feb 2025) EllapsedTime: 48.9 seconds RetCode: 0 Status: OK