Package: CAMERA Version: 1.63.0 Command: /home/biocbuild/bbs-3.21-bioc/R/bin/R CMD build --keep-empty-dirs --no-resave-data CAMERA StartedAt: 2025-02-20 16:46:50 -0500 (Thu, 20 Feb 2025) EndedAt: 2025-02-20 16:48:09 -0500 (Thu, 20 Feb 2025) EllapsedTime: 79.1 seconds RetCode: 0 Status: OK PackageFile: CAMERA_1.63.0.tar.gz PackageFileSize: 2.423 MiB