Package: CAMERA Version: 1.63.0 Command: /Library/Frameworks/R.framework/Resources/bin/R CMD check --install=check:CAMERA.install-out.txt --library=/Library/Frameworks/R.framework/Resources/library --no-vignettes --timings CAMERA_1.63.0.tar.gz StartedAt: 2025-02-20 19:18:06 -0500 (Thu, 20 Feb 2025) EndedAt: 2025-02-20 19:26:17 -0500 (Thu, 20 Feb 2025) EllapsedTime: 491.1 seconds RetCode: 1 Status: ERROR CheckDir: CAMERA.Rcheck Warnings: NA