Package: CAMERA Version: 1.63.0 Command: /home/biocbuild/R/R/bin/R CMD INSTALL CAMERA StartedAt: 2025-01-29 20:14:57 -0000 (Wed, 29 Jan 2025) EndedAt: 2025-01-29 20:16:07 -0000 (Wed, 29 Jan 2025) EllapsedTime: 70.6 seconds RetCode: 0 Status: OK