Package: CAMERA Version: 1.63.0 Command: /home/biocbuild/R/R/bin/R CMD check --install=check:CAMERA.install-out.txt --library=/home/biocbuild/R/R/site-library --no-vignettes --timings CAMERA_1.63.0.tar.gz StartedAt: 2025-01-28 08:53:13 -0000 (Tue, 28 Jan 2025) EndedAt: 2025-01-28 09:10:14 -0000 (Tue, 28 Jan 2025) EllapsedTime: 1021.8 seconds RetCode: 0 Status: WARNINGS CheckDir: CAMERA.Rcheck Warnings: 1