Package: CAMERA Version: 1.63.0 Command: /home/biocbuild/R/R/bin/R CMD build --keep-empty-dirs --no-resave-data CAMERA StartedAt: 2025-01-28 21:32:24 -0000 (Tue, 28 Jan 2025) EndedAt: 2025-01-28 21:34:13 -0000 (Tue, 28 Jan 2025) EllapsedTime: 109.0 seconds RetCode: 0 Status: OK PackageFile: CAMERA_1.63.0.tar.gz PackageFileSize: 2.432 MiB