Package: CAMERA Version: 1.63.0 Command: /Library/Frameworks/R.framework/Resources/bin/R CMD INSTALL CAMERA StartedAt: 2025-02-20 15:19:06 -0500 (Thu, 20 Feb 2025) EndedAt: 2025-02-20 15:19:26 -0500 (Thu, 20 Feb 2025) EllapsedTime: 19.6 seconds RetCode: 0 Status: OK