Package: CAMERA Version: 1.63.0 Command: rm -rf CAMERA.buildbin-libdir && mkdir CAMERA.buildbin-libdir && /Users/biocbuild/BBS/utils/build-universal.sh CAMERA_1.63.0.tar.gz /Library/Frameworks/R.framework/Resources/bin/R CAMERA.buildbin-libdir StartedAt: 2025-02-20 22:12:34 -0500 (Thu, 20 Feb 2025) EndedAt: 2025-02-20 22:12:56 -0500 (Thu, 20 Feb 2025) EllapsedTime: 22.4 seconds RetCode: 0 Status: OK PackageFile: CAMERA_1.63.0.tgz PackageFileSize: 3.097 MiB